BEGIN:VCALENDAR
VERSION:2.0
PRODID:-//SBC Inzing - ECPv6.15.20//NONSGML v1.0//EN
CALSCALE:GREGORIAN
METHOD:PUBLISH
X-ORIGINAL-URL:https://sbc-inzing.at
X-WR-CALDESC:Veranstaltungen für SBC Inzing
REFRESH-INTERVAL;VALUE=DURATION:PT1H
X-Robots-Tag:noindex
X-PUBLISHED-TTL:PT1H
BEGIN:VTIMEZONE
TZID:UTC
BEGIN:STANDARD
TZOFFSETFROM:+0000
TZOFFSETTO:+0000
TZNAME:UTC
DTSTART:20240101T000000
END:STANDARD
END:VTIMEZONE
BEGIN:VEVENT
DTSTART;TZID=UTC:20250524T100000
DTEND;TZID=UTC:20250524T190000
DTSTAMP:20260420T200257
CREATED:20250425T145400Z
LAST-MODIFIED:20250425T150907Z
UID:740-1748080800-1748113200@sbc-inzing.at
SUMMARY:10 Ball Damen TM bei uns im Vereinslokal am 24.05.2025
DESCRIPTION:
URL:https://sbc-inzing.at/event/10-ball-sdamentm-bei-uns-am-24-05-2025/
END:VEVENT
END:VCALENDAR