BEGIN:VCALENDAR
VERSION:2.0
PRODID:-//SBC Inzing - ECPv6.15.20//NONSGML v1.0//EN
CALSCALE:GREGORIAN
METHOD:PUBLISH
X-ORIGINAL-URL:https://sbc-inzing.at
X-WR-CALDESC:Veranstaltungen für SBC Inzing
REFRESH-INTERVAL;VALUE=DURATION:PT1H
X-Robots-Tag:noindex
X-PUBLISHED-TTL:PT1H
BEGIN:VTIMEZONE
TZID:UTC
BEGIN:STANDARD
TZOFFSETFROM:+0000
TZOFFSETTO:+0000
TZNAME:UTC
DTSTART:20240101T000000
END:STANDARD
END:VTIMEZONE
BEGIN:VEVENT
DTSTART;TZID=UTC:20250830T100000
DTEND;TZID=UTC:20250830T190000
DTSTAMP:20260420T153927
CREATED:20250724T155151Z
LAST-MODIFIED:20250724T155151Z
UID:878-1756548000-1756580400@sbc-inzing.at
SUMMARY:Vereinsmeisterschaft 2025
DESCRIPTION:
URL:https://sbc-inzing.at/event/vereinsmeisterschaft-2025/
END:VEVENT
END:VCALENDAR